BEGIN:VCALENDAR
VERSION:2.0
PRODID:-//Schönstätter Marienschwestern - ECPv6.15.20//NONSGML v1.0//EN
CALSCALE:GREGORIAN
METHOD:PUBLISH
X-WR-CALNAME:Schönstätter Marienschwestern
X-ORIGINAL-URL:https://www.s-ms.org/it/
X-WR-CALDESC:Eventi per Schönstätter Marienschwestern
REFRESH-INTERVAL;VALUE=DURATION:PT1H
X-Robots-Tag:noindex
X-PUBLISHED-TTL:PT1H
BEGIN:VTIMEZONE
TZID:Europe/Berlin
BEGIN:DAYLIGHT
TZOFFSETFROM:+0100
TZOFFSETTO:+0200
TZNAME:CEST
DTSTART:20250330T010000
END:DAYLIGHT
BEGIN:STANDARD
TZOFFSETFROM:+0200
TZOFFSETTO:+0100
TZNAME:CET
DTSTART:20251026T010000
END:STANDARD
BEGIN:DAYLIGHT
TZOFFSETFROM:+0100
TZOFFSETTO:+0200
TZNAME:CEST
DTSTART:20260329T010000
END:DAYLIGHT
BEGIN:STANDARD
TZOFFSETFROM:+0200
TZOFFSETTO:+0100
TZNAME:CET
DTSTART:20261025T010000
END:STANDARD
BEGIN:DAYLIGHT
TZOFFSETFROM:+0100
TZOFFSETTO:+0200
TZNAME:CEST
DTSTART:20270328T010000
END:DAYLIGHT
BEGIN:STANDARD
TZOFFSETFROM:+0200
TZOFFSETTO:+0100
TZNAME:CET
DTSTART:20271031T010000
END:STANDARD
END:VTIMEZONE
BEGIN:VEVENT
DTSTART;TZID=Europe/Berlin:20261001T084500
DTEND;TZID=Europe/Berlin:20261001T094500
DTSTAMP:20260421T153352
CREATED:20251105T184941Z
LAST-MODIFIED:20251105T185103Z
UID:67067-1790844300-1790847900@www.s-ms.org
SUMMARY:MEXICO: First Thursday Holy Hour with the Sisters
DESCRIPTION:
URL:https://www.s-ms.org/it/event/mexiko-erste-donnerstag-anbetungsstunde-mit-den-schwestern/
LOCATION:Schönstatt-Heiligtum\, Querétaro\, Mexico\, Villa del Pueblito CP\, Corregidora\, Querétaro\,\, 76900\, Mexico
ORGANIZER;CN="Suore di Maria di Sch%C3%B6nstatt - MX":MAILTO:sch_hnas_queretaro@yahoo.com
END:VEVENT
BEGIN:VEVENT
DTSTART;VALUE=DATE:20261003
DTEND;VALUE=DATE:20261004
DTSTAMP:20260421T153352
CREATED:20250922T103805Z
LAST-MODIFIED:20251006T174151Z
UID:65571-1790985600-1791071999@www.s-ms.org
SUMMARY:SCHÖNSTATT: Official jubilee celebration with the public
DESCRIPTION:
URL:https://www.s-ms.org/it/event/schoenstatt-offizielle-feier-des-jubilaeums-mit-der-oeffentlichkeit/
LOCATION:Schönstatt\, Schönstatt\, Germany
ORGANIZER;CN="Suore di Maria di Sch%C3%B6nstatt %E2%80%93 Casa Madre DE":MAILTO:mutterhaus@s-ms.org
END:VEVENT
BEGIN:VEVENT
DTSTART;TZID=Europe/Berlin:20261003T110000
DTEND;TZID=Europe/Berlin:20261003T123000
DTSTAMP:20260421T153352
CREATED:20251105T185707Z
LAST-MODIFIED:20251105T185826Z
UID:67085-1791025200-1791030600@www.s-ms.org
SUMMARY:MEXICO: 100th Jubilee Celebration
DESCRIPTION:
URL:https://www.s-ms.org/it/event/mexiko-100-jaehriges-jubilaeumsfest/
LOCATION:Schönstatt-Heiligtum\, Querétaro\, Mexico\, Villa del Pueblito CP\, Corregidora\, Querétaro\,\, 76900\, Mexico
ORGANIZER;CN="Suore di Maria di Sch%C3%B6nstatt - MX":MAILTO:sch_hnas_queretaro@yahoo.com
END:VEVENT
BEGIN:VEVENT
DTSTART;VALUE=DATE:20261017
DTEND;VALUE=DATE:20261018
DTSTAMP:20260421T153352
CREATED:20250922T103947Z
LAST-MODIFIED:20251006T160127Z
UID:65555-1792195200-1792281599@www.s-ms.org
SUMMARY:SPAIN: Official jubilee celebration at the Schoenstatt Centers in Pozuelo (Madrid) and Valldoreix (Barcelona)
DESCRIPTION:
URL:https://www.s-ms.org/it/event/spanien-offizielle-feier-des-jubilaeums-an-den-schoenstattzentren-in-pozuelo-madrid-und-valldoreix-barcelona/
LOCATION:Spanien\, Spain
END:VEVENT
BEGIN:VEVENT
DTSTART;VALUE=DATE:20261018
DTEND;VALUE=DATE:20261019
DTSTAMP:20260421T153352
CREATED:20251105T191036Z
LAST-MODIFIED:20251105T191613Z
UID:67109-1792281600-1792367999@www.s-ms.org
SUMMARY:NEW YORK: 100th Jubilee Celebration
DESCRIPTION:
URL:https://www.s-ms.org/it/event/new-york-100-jaehriges-jubilaeumsfest/
LOCATION:Schoenstatt Marian Shrine NY\, 337 Cary Avenue\, New York\, NY 10310\, United States
ORGANIZER;CN="Sorelle di Maria di Schoenstatt %E2%80%93 NY%2C USA":MAILTO:sistersofmaryny@schsrsmary.org
END:VEVENT
END:VCALENDAR