BEGIN:VCALENDAR
VERSION:2.0
PRODID:-//Schönstätter Marienschwestern - ECPv6.15.20//NONSGML v1.0//EN
CALSCALE:GREGORIAN
METHOD:PUBLISH
X-WR-CALNAME:Schönstätter Marienschwestern
X-ORIGINAL-URL:https://www.s-ms.org/it/
X-WR-CALDESC:Eventi per Schönstätter Marienschwestern
REFRESH-INTERVAL;VALUE=DURATION:PT1H
X-Robots-Tag:noindex
X-PUBLISHED-TTL:PT1H
BEGIN:VTIMEZONE
TZID:America/Guayaquil
BEGIN:STANDARD
TZOFFSETFROM:-0500
TZOFFSETTO:-0500
TZNAME:-05
DTSTART:20240101T000000
END:STANDARD
END:VTIMEZONE
BEGIN:VTIMEZONE
TZID:Asia/Kolkata
BEGIN:STANDARD
TZOFFSETFROM:+0530
TZOFFSETTO:+0530
TZNAME:IST
DTSTART:20240101T000000
END:STANDARD
END:VTIMEZONE
BEGIN:VTIMEZONE
TZID:America/Mexico_City
BEGIN:STANDARD
TZOFFSETFROM:-0600
TZOFFSETTO:-0600
TZNAME:CST
DTSTART:20240101T000000
END:STANDARD
END:VTIMEZONE
BEGIN:VTIMEZONE
TZID:Europe/Berlin
BEGIN:DAYLIGHT
TZOFFSETFROM:+0100
TZOFFSETTO:+0200
TZNAME:CEST
DTSTART:20240331T010000
END:DAYLIGHT
BEGIN:STANDARD
TZOFFSETFROM:+0200
TZOFFSETTO:+0100
TZNAME:CET
DTSTART:20241027T010000
END:STANDARD
BEGIN:DAYLIGHT
TZOFFSETFROM:+0100
TZOFFSETTO:+0200
TZNAME:CEST
DTSTART:20250330T010000
END:DAYLIGHT
BEGIN:STANDARD
TZOFFSETFROM:+0200
TZOFFSETTO:+0100
TZNAME:CET
DTSTART:20251026T010000
END:STANDARD
BEGIN:DAYLIGHT
TZOFFSETFROM:+0100
TZOFFSETTO:+0200
TZNAME:CEST
DTSTART:20260329T010000
END:DAYLIGHT
BEGIN:STANDARD
TZOFFSETFROM:+0200
TZOFFSETTO:+0100
TZNAME:CET
DTSTART:20261025T010000
END:STANDARD
END:VTIMEZONE
BEGIN:VTIMEZONE
TZID:Europe/Warsaw
BEGIN:DAYLIGHT
TZOFFSETFROM:+0100
TZOFFSETTO:+0200
TZNAME:CEST
DTSTART:20240331T010000
END:DAYLIGHT
BEGIN:STANDARD
TZOFFSETFROM:+0200
TZOFFSETTO:+0100
TZNAME:CET
DTSTART:20241027T010000
END:STANDARD
BEGIN:DAYLIGHT
TZOFFSETFROM:+0100
TZOFFSETTO:+0200
TZNAME:CEST
DTSTART:20250330T010000
END:DAYLIGHT
BEGIN:STANDARD
TZOFFSETFROM:+0200
TZOFFSETTO:+0100
TZNAME:CET
DTSTART:20251026T010000
END:STANDARD
BEGIN:DAYLIGHT
TZOFFSETFROM:+0100
TZOFFSETTO:+0200
TZNAME:CEST
DTSTART:20260329T010000
END:DAYLIGHT
BEGIN:STANDARD
TZOFFSETFROM:+0200
TZOFFSETTO:+0100
TZNAME:CET
DTSTART:20261025T010000
END:STANDARD
END:VTIMEZONE
BEGIN:VTIMEZONE
TZID:America/New_York
BEGIN:DAYLIGHT
TZOFFSETFROM:-0500
TZOFFSETTO:-0400
TZNAME:EDT
DTSTART:20240310T070000
END:DAYLIGHT
BEGIN:STANDARD
TZOFFSETFROM:-0400
TZOFFSETTO:-0500
TZNAME:EST
DTSTART:20241103T060000
END:STANDARD
BEGIN:DAYLIGHT
TZOFFSETFROM:-0500
TZOFFSETTO:-0400
TZNAME:EDT
DTSTART:20250309T070000
END:DAYLIGHT
BEGIN:STANDARD
TZOFFSETFROM:-0400
TZOFFSETTO:-0500
TZNAME:EST
DTSTART:20251102T060000
END:STANDARD
BEGIN:DAYLIGHT
TZOFFSETFROM:-0500
TZOFFSETTO:-0400
TZNAME:EDT
DTSTART:20260308T070000
END:DAYLIGHT
BEGIN:STANDARD
TZOFFSETFROM:-0400
TZOFFSETTO:-0500
TZNAME:EST
DTSTART:20261101T060000
END:STANDARD
END:VTIMEZONE
BEGIN:VTIMEZONE
TZID:America/Santo_Domingo
BEGIN:STANDARD
TZOFFSETFROM:-0400
TZOFFSETTO:-0400
TZNAME:AST
DTSTART:20240101T000000
END:STANDARD
END:VTIMEZONE
BEGIN:VEVENT
DTSTART;VALUE=DATE:20251001
DTEND;VALUE=DATE:20251002
DTSTAMP:20260421T152859
CREATED:20250918T124422Z
LAST-MODIFIED:20250929T113009Z
UID:64757-1759276800-1759363199@www.s-ms.org
SUMMARY:ECUADOR: Opening of the Jubilee Year with the Schoenstatt Movement at the National Shrine in Guayaquil
DESCRIPTION:
URL:https://www.s-ms.org/it/event/ecuador-eroeffnung-des-jubilaeumsjahres-mit-der-schoenstattbewegung-am-nationalheiligtum-in-guayaquil/
LOCATION:Guayaquil\, Guayaquil\, Ecuador
ORGANIZER;CN="Suore di Maria di Sch%C3%B6nstatt %E2%80%93 Casa Madre DE":MAILTO:mutterhaus@s-ms.org
END:VEVENT
BEGIN:VEVENT
DTSTART;TZID=Asia/Kolkata:20251001T110000
DTEND;TZID=Asia/Kolkata:20251001T110000
DTSTAMP:20260421T152859
CREATED:20250929T114304Z
LAST-MODIFIED:20251007T081604Z
UID:65667-1759316400-1759316400@www.s-ms.org
SUMMARY:INDIA: Apertura del nostro Giubileo
DESCRIPTION:
URL:https://www.s-ms.org/it/event/opening-of-our-jubilee/
ORGANIZER;CN="Suore di Maria di Sch%C3%B6nstatt - 1 Bangalore%2C IN":MAILTO:larakkaparambil@gmail.com
END:VEVENT
BEGIN:VEVENT
DTSTART;TZID=America/Mexico_City:20251001T160000
DTEND;TZID=America/Mexico_City:20251001T200000
DTSTAMP:20260421T152859
CREATED:20250924T121337Z
LAST-MODIFIED:20250929T113059Z
UID:64760-1759334400-1759348800@www.s-ms.org
SUMMARY:MEXICO: Opening of our 100th Jubilee Year
DESCRIPTION:MEXICO: Opening of our 100th Jubilee Year \n– 9:00am-7:00pm: Adoration \n– 8:00pm: Holy Mass in front of the Shrine
URL:https://www.s-ms.org/it/event/mexico-opening-of-our-100th-jubilee-year/
LOCATION:Schoenstatt Shrine\, Querétaro\, Mexico\, Villa del Pueblito CP\, Corregidora\, Querétaro\,\, 76900\, Mexico
END:VEVENT
BEGIN:VEVENT
DTSTART;TZID=Europe/Berlin:20251004T093000
DTEND;TZID=Europe/Berlin:20251004T120000
DTSTAMP:20260421T152859
CREATED:20251009T085416Z
LAST-MODIFIED:20251009T085502Z
UID:65752-1759570200-1759579200@www.s-ms.org
SUMMARY:WAUKESHA\, WISCONSIN - Opening of our 100th Jubilee Year
DESCRIPTION:
URL:https://www.s-ms.org/it/event/waukesha-wisconsin-opening-of-our-100th-jubilee-year/
LOCATION:International Schoenstatt Center\, Father Kentenich Hall\, W284 N698 Cherry Lane\, Waukesha\, 53188\, United States
ORGANIZER;CN="Sorelle di Maria di Schoenstatt %E2%80%93 Waukesha%2C Wisconsin%2C USA":MAILTO:pastoralmta@gmail.com
END:VEVENT
BEGIN:VEVENT
DTSTART;VALUE=DATE:20251005
DTEND;VALUE=DATE:20251006
DTSTAMP:20260421T152859
CREATED:20250918T125238Z
LAST-MODIFIED:20250929T113247Z
UID:64766-1759622400-1759708799@www.s-ms.org
SUMMARY:AUSTRALIA: Opening of the Jubilee Year at the National Shrine in Mulgoa
DESCRIPTION:
URL:https://www.s-ms.org/it/event/australien-eroeffnung-des-jubilaeumsjahres-am-nationalheiligtum-in-mulgoa/
LOCATION:Mulgoa\, Mulgoa\, Australia
END:VEVENT
BEGIN:VEVENT
DTSTART;VALUE=DATE:20251005
DTEND;VALUE=DATE:20251006
DTSTAMP:20260421T152859
CREATED:20251005T083054Z
LAST-MODIFIED:20250929T113327Z
UID:64769-1759622400-1759708799@www.s-ms.org
SUMMARY:SCHOENSTATT: Opening of the Jubilee Year during the Sunday Mass in the Adoration Church\, Schoenstatt
DESCRIPTION:Schoenstatt\, Germany: Opening of the Jubilee Year during the Sunday Mass in the Adoration Church at 9:00 AM.
URL:https://www.s-ms.org/it/event/schoenstatt-opening-of-the-jubilee-year-during-the-sunday-mass-in-the-adoration-church-schoenstatt/
LOCATION:Schönstatt\, Schönstatt\, Germany
END:VEVENT
BEGIN:VEVENT
DTSTART;TZID=Europe/Berlin:20251005T103000
DTEND;TZID=Europe/Berlin:20251005T110000
DTSTAMP:20260421T152859
CREATED:20251005T083015Z
LAST-MODIFIED:20250929T113353Z
UID:64772-1759660200-1759662000@www.s-ms.org
SUMMARY:SCHÖNSTATT: Opening of the Jubilee Year during the Sunday Mass in the Pilgrims’ Church.
DESCRIPTION:Schoenstatt\, Germany: Opening of the Jubilee Year during the Sunday Mass in the Pilgrims’ Church at 10:30 AM.
URL:https://www.s-ms.org/it/event/schoenstatt-germany-opening-of-the-jubilee-year-during-the-sunday-massin-the-pilgrims-church/
ORGANIZER;CN="Suore di Maria di Sch%C3%B6nstatt %E2%80%93 Casa Madre DE":MAILTO:mutterhaus@s-ms.org
END:VEVENT
BEGIN:VEVENT
DTSTART;TZID=Europe/Berlin:20251008T183000
DTEND;TZID=Europe/Berlin:20251008T203000
DTSTAMP:20260421T152859
CREATED:20251009T092026Z
LAST-MODIFIED:20251009T092552Z
UID:65797-1759948200-1759955400@www.s-ms.org
SUMMARY:MADISON\, WISCONSIN: Opening of our 100th Jubilee Year
DESCRIPTION:
URL:https://www.s-ms.org/it/event/madison-wisconsin-eroeffnung-unseres-100-jubilaeumsjahres/
LOCATION:Schoenstatt Heights\, 5901 Cottage Grove Road\, Madison\, 53188\, United States
ORGANIZER;CN="Sorelle di Maria di Schoenstatt %E2%80%93 Madison%2C Wisconsin%2C USA":MAILTO:schoenstattheights@schsrsmary.org
END:VEVENT
BEGIN:VEVENT
DTSTART;TZID=Europe/Berlin:20251009T143000
DTEND;TZID=Europe/Berlin:20251009T153000
DTSTAMP:20260421T152859
CREATED:20251009T090352Z
LAST-MODIFIED:20251009T090623Z
UID:65778-1760020200-1760023800@www.s-ms.org
SUMMARY:DOMINICAN REPUBLIC - First Sunday Holy Hour with the Sisters
DESCRIPTION:
URL:https://www.s-ms.org/it/event/dominikanische-republik-erste-sonntagsanbetungsstunde-mit-den-schwestern/
LOCATION:Villa Schoenstatt\, La Victoria\, Dominican Republic
ORGANIZER;CN="Suore di Maria di Sch%C3%B6nstatt %E2%80%93 RD":MAILTO:hermanasdemariadeschoenstattrd@gmail.com
END:VEVENT
BEGIN:VEVENT
DTSTART;TZID=Europe/Warsaw:20251011T090000
DTEND;TZID=Europe/Warsaw:20251011T180000
DTSTAMP:20260421T152859
CREATED:20250930T092425Z
LAST-MODIFIED:20251002T094115Z
UID:65088-1760173200-1760205600@www.s-ms.org
SUMMARY:POLAND: Symposium – Mary\, the Light of Our Hope
DESCRIPTION:
URL:https://www.s-ms.org/it/event/polska-sympozjum-maryja-swiatlo-naszej-nadziei/
LOCATION:Dom prowincjalny Prowincji Fidelitas\, ul. Czecha 9/11\, OTWOCK\, 04-402\, Poland
ORGANIZER;CN="Suore di Maria di Sch%C3%B6nstatt %E2%80%93 PL Otwock":MAILTO:s.kamila@szensztat.pl
END:VEVENT
BEGIN:VEVENT
DTSTART;TZID=Europe/Berlin:20251011T110000
DTEND;TZID=Europe/Berlin:20251011T150000
DTSTAMP:20260421T152859
CREATED:20251009T093236Z
LAST-MODIFIED:20251009T093448Z
UID:65816-1760180400-1760194800@www.s-ms.org
SUMMARY:TEXAS: Opening of our 100th Jubilee Year
DESCRIPTION:
URL:https://www.s-ms.org/it/event/texas-eroeffnung-unseres-100-jubilaeumsjahres/
LOCATION:Texas\, 134 Front Street\, Lamar\, TX\, United States
END:VEVENT
BEGIN:VEVENT
DTSTART;TZID=Asia/Kolkata:20251018T000000
DTEND;TZID=Asia/Kolkata:20251018T000000
DTSTAMP:20260421T152859
CREATED:20251009T075107Z
LAST-MODIFIED:20251009T080543Z
UID:65728-1760745600-1760745600@www.s-ms.org
SUMMARY:INDIA: Opening our Jubilee with the pilgrims at our Cor Unum in Patre Shrine
DESCRIPTION:
URL:https://www.s-ms.org/it/event/opening-our-jubilee-with-the-pilgrims-at-our-cor-unum-in-patre-shrine/
LOCATION:Bangalore\, Koramangala\, Bangalore\, 560034.\, India
ORGANIZER;CN="Schoenstatt Sisters of Mary - 2 Bangalore%2C IN":MAILTO:Sr.m.rubinijoseph@gmail.com
END:VEVENT
BEGIN:VEVENT
DTSTART;VALUE=DATE:20251018
DTEND;VALUE=DATE:20251019
DTSTAMP:20260421T152859
CREATED:20250918T130012Z
LAST-MODIFIED:20251006T074703Z
UID:64775-1760745600-1760831999@www.s-ms.org
SUMMARY:BURUNDI: Opening of the Jubilee Year with the Schoenstatt Movement in Gikungu\, Bujumbura
DESCRIPTION:
URL:https://www.s-ms.org/it/event/burundi-eroeffnung-des-jubilaeumsjahres-mit-der-schoenstattbewegung-in-gikungu-bujumbura/
LOCATION:Gikungu\, Gikungu\, Bujumbura\, Burundi
END:VEVENT
BEGIN:VEVENT
DTSTART;VALUE=DATE:20251018
DTEND;VALUE=DATE:20251019
DTSTAMP:20260421T152859
CREATED:20250929T090934Z
LAST-MODIFIED:20250929T113434Z
UID:64778-1760745600-1760831999@www.s-ms.org
SUMMARY:CHILE: Opening of the Jubilee Year with the Schoenstatt Movement – at various Schoenstatt Centers throughout the country
DESCRIPTION:
URL:https://www.s-ms.org/it/event/chile-opening-of-the-jubilee-year-with-the-schoenstatt-movement-at-various-schoenstatt-centers-throughout-the-country/
LOCATION:Chile\, Chile
END:VEVENT
BEGIN:VEVENT
DTSTART;VALUE=DATE:20251019
DTEND;VALUE=DATE:20251020
DTSTAMP:20260421T152900
CREATED:20250918T130704Z
LAST-MODIFIED:20250929T113458Z
UID:64781-1760832000-1760918399@www.s-ms.org
SUMMARY:PHILIPPINES: Opening of the Jubilee Year at the Fiesta at the Shrine in Lawaan\, Cebu
DESCRIPTION:
URL:https://www.s-ms.org/it/event/philippinen-eroeffnung-des-jubilaeumsjahres-beim-fiesta-beim-heiligtum-in-lawaan/
LOCATION:Lawaan\, Lawaan\, Cebu\, Philippines
END:VEVENT
BEGIN:VEVENT
DTSTART;TZID=America/New_York:20251019T100000
DTEND;TZID=America/New_York:20251019T153000
DTSTAMP:20260421T152900
CREATED:20251010T082310Z
LAST-MODIFIED:20251010T082442Z
UID:65834-1760868000-1760887800@www.s-ms.org
SUMMARY:MINNESOTA - Opening of our 100th Jubilee Year
DESCRIPTION:
URL:https://www.s-ms.org/it/event/minnesota-eroeffnung-unseres-100-jubilaeumsjahres/
LOCATION:Schoenstatt on the Lake\, 27762 Co. Rd. 27\, Sleepy Eye\, MN 56085\, 56085\, United States
ORGANIZER;CN="Sorelle di Maria di Schoenstatt %E2%80%93 Minnesota%2C USA":MAILTO:Schoenstatt Sisters of Mary – Nebraska, USA
END:VEVENT
BEGIN:VEVENT
DTSTART;TZID=America/Santo_Domingo:20251019T100000
DTEND;TZID=America/Santo_Domingo:20251019T163000
DTSTAMP:20260421T152900
CREATED:20251010T084412Z
LAST-MODIFIED:20251010T084536Z
UID:65851-1760868000-1760891400@www.s-ms.org
SUMMARY:DOMINICAN REPUBLIC: National Opening of our 100th Jubilee Year
DESCRIPTION:
URL:https://www.s-ms.org/it/event/dominikanische-republik-nationale-eroeffnung-unseres-100-jubilaeumsjahres/
LOCATION:Villa Schoenstatt\, La Victoria\, Dominican Republic
ORGANIZER;CN="Suore di Maria di Sch%C3%B6nstatt %E2%80%93 RD":MAILTO:hermanasdemariadeschoenstattrd@gmail.com
END:VEVENT
BEGIN:VEVENT
DTSTART;TZID=Europe/Berlin:20251026T090000
DTEND;TZID=Europe/Berlin:20251026T170000
DTSTAMP:20260421T152900
CREATED:20251010T085152Z
LAST-MODIFIED:20251105T191207Z
UID:65869-1761469200-1761498000@www.s-ms.org
SUMMARY:NEW YORK: Opening of our 100th Jubilee Year
DESCRIPTION:
URL:https://www.s-ms.org/it/event/new-york-eroeffnung-unseres-100-jubilaeumsjahres/
LOCATION:Memorial of our Father and Founder\, 1000 Castleton Avenue\, Staten Island\, NY 10310\, New York\, 10310\, United States
ORGANIZER;CN="Sorelle di Maria di Schoenstatt %E2%80%93 NY%2C USA":MAILTO:sistersofmaryny@schsrsmary.org
END:VEVENT
END:VCALENDAR